0.250000000000
0
0
-0.250000000000
194710.124999999940
425829.874999999940
