1.0000000000
0.0000000000
0.0000000000
-1.0000000000
3104432.5000000000
1695071.5000000000
