BEGIN:VCALENDAR
VERSION:2.0
PRODID:-//Plone.org//NONSGML plone.app.event//EN
X-WR-TIMEZONE:US/Mountain
BEGIN:VEVENT
SUMMARY:Mountain Rail Project June Open House
DTSTART;VALUE=DATE-TIME:20250618T173000Z
DTEND;VALUE=DATE-TIME:20250618T193000Z
DTSTAMP;VALUE=DATE-TIME:20260420T061938Z
UID:ad30451922ce48c09349318e03d36de4@localhost:6081
CREATED;VALUE=DATE-TIME:20250605T233934Z
LAST-MODIFIED;VALUE=DATE-TIME:20250605T233953Z
LOCATION:Fraser Valley Elementary School\, 125 Eastom Ave.\, Fraser\, CO 8
 0442
URL:https://www.codot.gov/projects/coloradomountainrail/calendar/mountain-
 rail-project-june-open-house
END:VEVENT
END:VCALENDAR
