BEGIN:VCALENDAR
VERSION:2.0
PRODID:-//Plone.org//NONSGML plone.app.event//EN
X-WR-TIMEZONE:US/Mountain
BEGIN:VEVENT
SUMMARY:Pop-up at Re:Vision
DTSTART;TZID=US/Mountain;VALUE=DATE-TIME:20251111T130000
DTEND;TZID=US/Mountain;VALUE=DATE-TIME:20251111T150000
DTSTAMP;VALUE=DATE-TIME:20260423T051551Z
UID:2af61457aff149e58a03bd70a6300684@localhost:6081
CREATED;VALUE=DATE-TIME:20251013T041739Z
LAST-MODIFIED;VALUE=DATE-TIME:20251013T041746Z
LOCATION:3800 Morrison Rd.\, Denver\, CO 80219
URL:https://www.codot.gov/projects/studies/denvermetrobrt/federalbrt/event
 s/pop-up-at-re-vision
END:VEVENT
BEGIN:VTIMEZONE
TZID:US/Mountain
X-LIC-LOCATION:US/Mountain
BEGIN:STANDARD
DTSTART;VALUE=DATE-TIME:20251102T010000
TZNAME:MST
TZOFFSETFROM:-0600
TZOFFSETTO:-0700
END:STANDARD
END:VTIMEZONE
END:VCALENDAR
