BEGIN:VCALENDAR
VERSION:2.0
PRODID:-//Plone.org//NONSGML plone.app.event//EN
X-WR-TIMEZONE:US/Mountain
BEGIN:VEVENT
SUMMARY:Public Open House at The Mac
DTSTART;TZID=US/Mountain;VALUE=DATE-TIME:20251029T170000
DTEND;TZID=US/Mountain;VALUE=DATE-TIME:20251029T190000
DTSTAMP;VALUE=DATE-TIME:20260423T051622Z
UID:c22f5425d7314668a53571811d1b441f@localhost:6081
CREATED;VALUE=DATE-TIME:20251013T041918Z
LAST-MODIFIED;VALUE=DATE-TIME:20251013T041923Z
LOCATION:3295 W 72nd Ave.\, Westminster\, CO 80030
URL:https://www.codot.gov/projects/studies/denvermetrobrt/federalbrt/event
 s/public-open-house-at-the-mac
END:VEVENT
BEGIN:VTIMEZONE
TZID:US/Mountain
X-LIC-LOCATION:US/Mountain
BEGIN:DAYLIGHT
DTSTART;VALUE=DATE-TIME:20250309T030000
TZNAME:MDT
TZOFFSETFROM:-0700
TZOFFSETTO:-0600
END:DAYLIGHT
END:VTIMEZONE
END:VCALENDAR
