BEGIN:VCALENDAR
VERSION:2.0
PRODID:-//Plone.org//NONSGML plone.app.event//EN
X-WR-TIMEZONE:US/Mountain
BEGIN:VEVENT
SUMMARY:Public Open House at Westwood Community Center
DTSTART;TZID=US/Mountain;VALUE=DATE-TIME:20251030T170000
DTEND;TZID=US/Mountain;VALUE=DATE-TIME:20251030T190000
DTSTAMP;VALUE=DATE-TIME:20260423T051807Z
UID:75d4cc50daf644deb070bba23f92eff1@localhost:6081
CREATED;VALUE=DATE-TIME:20251013T042052Z
LAST-MODIFIED;VALUE=DATE-TIME:20251013T042056Z
LOCATION:1000 S Lowell Blvd.\, Denver\, CO 80219
URL:https://www.codot.gov/projects/studies/denvermetrobrt/federalbrt/event
 s/public-open-house-at-westwood-community-center
END:VEVENT
BEGIN:VTIMEZONE
TZID:US/Mountain
X-LIC-LOCATION:US/Mountain
BEGIN:DAYLIGHT
DTSTART;VALUE=DATE-TIME:20250309T030000
TZNAME:MDT
TZOFFSETFROM:-0700
TZOFFSETTO:-0600
END:DAYLIGHT
END:VTIMEZONE
END:VCALENDAR
