BEGIN:VCALENDAR
VERSION:2.0
PRODID:-//Plone.org//NONSGML plone.app.event//EN
X-WR-TIMEZONE:US/Mountain
BEGIN:VEVENT
SUMMARY:I-270 DEIS In-Person Public Hearing - Jan. 13\, 2026
DTSTART;TZID=US/Mountain;VALUE=DATE-TIME:20260113T170000
DTEND;TZID=US/Mountain;VALUE=DATE-TIME:20260113T200000
DTSTAMP;VALUE=DATE-TIME:20260422T085523Z
UID:514f1994455a4074a9b438c801813582@localhost:6081
CREATED;VALUE=DATE-TIME:20251203T170301Z
LAST-MODIFIED;VALUE=DATE-TIME:20251203T172020Z
LOCATION:Adams City High School\, 7200 Quebec Parkway Commerce City\, CO 8
 0022
URL:https://www.codot.gov/projects/studies/i270study/calendar/public-heari
 ng-jan13
END:VEVENT
BEGIN:VTIMEZONE
TZID:US/Mountain
X-LIC-LOCATION:US/Mountain
BEGIN:STANDARD
DTSTART;VALUE=DATE-TIME:20251102T010000
TZNAME:MST
TZOFFSETFROM:-0600
TZOFFSETTO:-0700
END:STANDARD
END:VTIMEZONE
END:VCALENDAR
